BEGIN:VCALENDAR
VERSION:2.0
PRODID:-//Sympossio - ECPv6.15.20//NONSGML v1.0//EN
CALSCALE:GREGORIAN
METHOD:PUBLISH
X-WR-CALNAME:Sympossio
X-ORIGINAL-URL:https://www.sympossio.gr
X-WR-CALDESC:Events for Sympossio
REFRESH-INTERVAL;VALUE=DURATION:PT1H
X-Robots-Tag:noindex
X-PUBLISHED-TTL:PT1H
BEGIN:VTIMEZONE
TZID:Europe/Athens
BEGIN:DAYLIGHT
TZOFFSETFROM:+0200
TZOFFSETTO:+0300
TZNAME:EEST
DTSTART:20150329T010000
END:DAYLIGHT
BEGIN:STANDARD
TZOFFSETFROM:+0300
TZOFFSETTO:+0200
TZNAME:EET
DTSTART:20151025T010000
END:STANDARD
BEGIN:DAYLIGHT
TZOFFSETFROM:+0200
TZOFFSETTO:+0300
TZNAME:EEST
DTSTART:20160327T010000
END:DAYLIGHT
BEGIN:STANDARD
TZOFFSETFROM:+0300
TZOFFSETTO:+0200
TZNAME:EET
DTSTART:20161030T010000
END:STANDARD
BEGIN:DAYLIGHT
TZOFFSETFROM:+0200
TZOFFSETTO:+0300
TZNAME:EEST
DTSTART:20170326T010000
END:DAYLIGHT
BEGIN:STANDARD
TZOFFSETFROM:+0300
TZOFFSETTO:+0200
TZNAME:EET
DTSTART:20171029T010000
END:STANDARD
BEGIN:DAYLIGHT
TZOFFSETFROM:+0200
TZOFFSETTO:+0300
TZNAME:EEST
DTSTART:20180325T010000
END:DAYLIGHT
BEGIN:STANDARD
TZOFFSETFROM:+0300
TZOFFSETTO:+0200
TZNAME:EET
DTSTART:20181028T010000
END:STANDARD
BEGIN:DAYLIGHT
TZOFFSETFROM:+0200
TZOFFSETTO:+0300
TZNAME:EEST
DTSTART:20190331T010000
END:DAYLIGHT
BEGIN:STANDARD
TZOFFSETFROM:+0300
TZOFFSETTO:+0200
TZNAME:EET
DTSTART:20191027T010000
END:STANDARD
END:VTIMEZONE
BEGIN:VEVENT
DTSTART;TZID=Europe/Athens:20180215T190000
DTEND;TZID=Europe/Athens:20180215T210000
DTSTAMP:20260422T042006
CREATED:20180302T105032Z
LAST-MODIFIED:20180302T105032Z
UID:12819-1518721200-1518728400@www.sympossio.gr
SUMMARY:Sympossio in Munich\, Germany
DESCRIPTION:
URL:https://www.sympossio.gr/event/sympossio-in-munich-germany-2/
LOCATION:Kairaba Lounge\, Landsberger Str. 88\, Munich\, 80339\, Germany
END:VEVENT
BEGIN:VEVENT
DTSTART;TZID=Europe/Athens:20180215T190000
DTEND;TZID=Europe/Athens:20180215T210000
DTSTAMP:20260422T042006
CREATED:20180302T104911Z
LAST-MODIFIED:20180302T104911Z
UID:12816-1518721200-1518728400@www.sympossio.gr
SUMMARY:Sympossio in Athens - Opening Event\, GR
DESCRIPTION:
URL:https://www.sympossio.gr/event/sympossio-in-athens-opening-event-gr/
LOCATION:Saint-George Lycabettus
END:VEVENT
BEGIN:VEVENT
DTSTART;TZID=Europe/Athens:20180213T190000
DTEND;TZID=Europe/Athens:20180213T210000
DTSTAMP:20260422T042006
CREATED:20180302T104746Z
LAST-MODIFIED:20180302T104746Z
UID:12813-1518548400-1518555600@www.sympossio.gr
SUMMARY:Sympossio in Duesseldorf\, DE
DESCRIPTION:
URL:https://www.sympossio.gr/event/sympossio-in-duesseldorf-de/
LOCATION:Frank Petzchen Koch Events\, " Steinstrasse 23"\, 40210\, Germany
END:VEVENT
BEGIN:VEVENT
DTSTART;TZID=Europe/Athens:20170406T190000
DTEND;TZID=Europe/Athens:20170406T210000
DTSTAMP:20260422T042006
CREATED:20170131T104701Z
LAST-MODIFIED:20170406T064431Z
UID:7390-1491505200-1491512400@www.sympossio.gr
SUMMARY:Sympossio in Birmingham\, UK
DESCRIPTION:
URL:https://www.sympossio.gr/event/sympossio-in-chester-uk/
END:VEVENT
BEGIN:VEVENT
DTSTART;TZID=Europe/Athens:20170405T190000
DTEND;TZID=Europe/Athens:20170405T210000
DTSTAMP:20260422T042006
CREATED:20170131T104523Z
LAST-MODIFIED:20170406T064339Z
UID:7386-1491418800-1491426000@www.sympossio.gr
SUMMARY:Sympossio in Dublin\, UK
DESCRIPTION:
URL:https://www.sympossio.gr/event/sympossio-in-dublin-uk/
END:VEVENT
BEGIN:VEVENT
DTSTART;TZID=Europe/Athens:20170404T190000
DTEND;TZID=Europe/Athens:20170404T210000
DTSTAMP:20260422T042006
CREATED:20170131T104615Z
LAST-MODIFIED:20170406T064308Z
UID:7388-1491332400-1491339600@www.sympossio.gr
SUMMARY:Sympossio in Manchester\, UK
DESCRIPTION:
URL:https://www.sympossio.gr/event/sympossio-in-manchester-uk/
END:VEVENT
BEGIN:VEVENT
DTSTART;TZID=Europe/Athens:20170330T193000
DTEND;TZID=Europe/Athens:20170330T220000
DTSTAMP:20260422T042006
CREATED:20170131T104432Z
LAST-MODIFIED:20170322T152719Z
UID:7384-1490902200-1490911200@www.sympossio.gr
SUMMARY:Sympossio in Bordeaux\, France
DESCRIPTION:
URL:https://www.sympossio.gr/event/sympossio-in-bordeaux-france/
LOCATION:Cook & Go\, Hangar No18\, quai des marques - Quai de Bacalan\, Bordeaux\, 33000\, France
END:VEVENT
BEGIN:VEVENT
DTSTART;TZID=Europe/Athens:20170329T193000
DTEND;TZID=Europe/Athens:20170329T220000
DTSTAMP:20260422T042006
CREATED:20170131T104344Z
LAST-MODIFIED:20170322T152653Z
UID:7382-1490815800-1490824800@www.sympossio.gr
SUMMARY:Sympossio in Nantes\, France
DESCRIPTION:
URL:https://www.sympossio.gr/event/sympossio-in-nantes-france/
LOCATION:Cook & Go\, 3\, rue Leon Maitre\, Nante\, 4400\, France
END:VEVENT
BEGIN:VEVENT
DTSTART;TZID=Europe/Athens:20170328T193000
DTEND;TZID=Europe/Athens:20170328T220000
DTSTAMP:20260422T042006
CREATED:20170131T104255Z
LAST-MODIFIED:20170322T152746Z
UID:7380-1490729400-1490738400@www.sympossio.gr
SUMMARY:Sympossio in Rennes\, France
DESCRIPTION:
URL:https://www.sympossio.gr/event/sympossio-in-brest-france/
LOCATION:Cook & Go\, 6\, rue de la Parcheminerie\, Rennes\, 35000\, France
END:VEVENT
BEGIN:VEVENT
DTSTART;TZID=Europe/Athens:20170324T190000
DTEND;TZID=Europe/Athens:20170324T210000
DTSTAMP:20260422T042006
CREATED:20170131T104131Z
LAST-MODIFIED:20170131T104131Z
UID:7377-1490382000-1490389200@www.sympossio.gr
SUMMARY:Sympossio in Moscow\, Russia
DESCRIPTION:
URL:https://www.sympossio.gr/event/sympossio-in-moscow-russia/
END:VEVENT
BEGIN:VEVENT
DTSTART;TZID=Europe/Athens:20170323T190000
DTEND;TZID=Europe/Athens:20170323T210000
DTSTAMP:20260422T042006
CREATED:20170131T104037Z
LAST-MODIFIED:20170131T104037Z
UID:7375-1490295600-1490302800@www.sympossio.gr
SUMMARY:Sympossio in Brussels\, Belgium
DESCRIPTION:
URL:https://www.sympossio.gr/event/sympossio-in-brussels-belgium/
END:VEVENT
BEGIN:VEVENT
DTSTART;TZID=Europe/Athens:20170321T190000
DTEND;TZID=Europe/Athens:20170321T210000
DTSTAMP:20260422T042006
CREATED:20170131T103941Z
LAST-MODIFIED:20170220T093638Z
UID:7373-1490122800-1490130000@www.sympossio.gr
SUMMARY:Sympossio in Amsterdam\, Netherlands
DESCRIPTION:
URL:https://www.sympossio.gr/event/sympossio-in-amsterdam-netherlands/
LOCATION:Keizer Culinair\, Elandsstraat 169-173\, Amsterdam\, 1016 RZ\, Netherlands
END:VEVENT
BEGIN:VEVENT
DTSTART;TZID=Europe/Athens:20170316T190000
DTEND;TZID=Europe/Athens:20170316T210000
DTSTAMP:20260422T042006
CREATED:20170131T103829Z
LAST-MODIFIED:20170131T103829Z
UID:7371-1489690800-1489698000@www.sympossio.gr
SUMMARY:Sympossio in Lyon\, France
DESCRIPTION:
URL:https://www.sympossio.gr/event/sympossio-in-lyon-france/
END:VEVENT
BEGIN:VEVENT
DTSTART;TZID=Europe/Athens:20170316T190000
DTEND;TZID=Europe/Athens:20170316T210000
DTSTAMP:20260422T042006
CREATED:20170131T103744Z
LAST-MODIFIED:20170131T103744Z
UID:7369-1489690800-1489698000@www.sympossio.gr
SUMMARY:Sympossio in Munich\, Germany
DESCRIPTION:
URL:https://www.sympossio.gr/event/sympossio-in-munich-germany/
END:VEVENT
BEGIN:VEVENT
DTSTART;TZID=Europe/Athens:20170315T190000
DTEND;TZID=Europe/Athens:20170315T210000
DTSTAMP:20260422T042006
CREATED:20170131T103646Z
LAST-MODIFIED:20170220T093438Z
UID:7366-1489604400-1489611600@www.sympossio.gr
SUMMARY:Sympossio in Lille\, France
DESCRIPTION:
URL:https://www.sympossio.gr/event/sympossio-in-lille-france/
LOCATION:Cook & Go\, 101A boulevard de Mons\, VILLENEUVE D’ASCQ\, Lille\, France
END:VEVENT
BEGIN:VEVENT
DTSTART;TZID=Europe/Athens:20170315T190000
DTEND;TZID=Europe/Athens:20170315T210000
DTSTAMP:20260422T042006
CREATED:20170131T103524Z
LAST-MODIFIED:20170131T103524Z
UID:7364-1489604400-1489611600@www.sympossio.gr
SUMMARY:Sympossio in Stuttgart\, Germany
DESCRIPTION:
URL:https://www.sympossio.gr/event/sympossio-in-stuttgart-germany/
END:VEVENT
BEGIN:VEVENT
DTSTART;TZID=Europe/Athens:20170314T190000
DTEND;TZID=Europe/Athens:20170314T210000
DTSTAMP:20260422T042006
CREATED:20170131T103342Z
LAST-MODIFIED:20170220T093131Z
UID:7362-1489518000-1489525200@www.sympossio.gr
SUMMARY:Sympossio in Paris\, France
DESCRIPTION:
URL:https://www.sympossio.gr/event/sympossio-in-paris-france/
LOCATION:Cook & Go\, 36 passage Charles Dallery\, rue de la roquette\, Paris\, 75011\, France
END:VEVENT
BEGIN:VEVENT
DTSTART;TZID=Europe/Athens:20170314T190000
DTEND;TZID=Europe/Athens:20170314T210000
DTSTAMP:20260422T042006
CREATED:20170131T102511Z
LAST-MODIFIED:20170131T102511Z
UID:7356-1489518000-1489525200@www.sympossio.gr
SUMMARY:Sympossio in Mannheim\, Germany
DESCRIPTION:
URL:https://www.sympossio.gr/event/sympossio-in-mannheim-germany/
END:VEVENT
BEGIN:VEVENT
DTSTART;TZID=Europe/Athens:20170302T190000
DTEND;TZID=Europe/Athens:20170302T210000
DTSTAMP:20260422T042006
CREATED:20170131T102353Z
LAST-MODIFIED:20170131T102353Z
UID:7354-1488481200-1488488400@www.sympossio.gr
SUMMARY:Sympossio in Bucharest\, Romania
DESCRIPTION:
URL:https://www.sympossio.gr/event/sympossio-in-bucharest-romania/
ORGANIZER;CN="Cocktail Holidays":MAILTO:bucuresti@cocktailholidays.ro
END:VEVENT
BEGIN:VEVENT
DTSTART;TZID=Europe/Athens:20170228T190000
DTEND;TZID=Europe/Athens:20170228T210000
DTSTAMP:20260422T042006
CREATED:20170131T102237Z
LAST-MODIFIED:20170131T102237Z
UID:7352-1488308400-1488315600@www.sympossio.gr
SUMMARY:Sympossio in Prague\, Czech Republic
DESCRIPTION:
URL:https://www.sympossio.gr/event/sympossio-in-prague-czech-republic/
END:VEVENT
BEGIN:VEVENT
DTSTART;TZID=Europe/Athens:20170223T190000
DTEND;TZID=Europe/Athens:20170223T210000
DTSTAMP:20260422T042006
CREATED:20170131T102131Z
LAST-MODIFIED:20170131T102131Z
UID:7350-1487876400-1487883600@www.sympossio.gr
SUMMARY:Sympossio in Rome\, Italy
DESCRIPTION:
URL:https://www.sympossio.gr/event/sympossio-in-rome-italy/
ORGANIZER;CN="Aldemar Resorts":MAILTO:sales@aldemar.gr
END:VEVENT
BEGIN:VEVENT
DTSTART;TZID=Europe/Athens:20170221T190000
DTEND;TZID=Europe/Athens:20170221T210000
DTSTAMP:20260422T042006
CREATED:20170131T102035Z
LAST-MODIFIED:20170220T091403Z
UID:7348-1487703600-1487710800@www.sympossio.gr
SUMMARY:Sympossio in Bologna \, Italy
DESCRIPTION:
URL:https://www.sympossio.gr/event/sympossio-in-bologna-italy/
LOCATION:A Scuola Di Gusto\, Via Cesare Gnudi 5\, Bologna\, 40127\, Italy
END:VEVENT
BEGIN:VEVENT
DTSTART;TZID=Europe/Athens:20170220T190000
DTEND;TZID=Europe/Athens:20170220T210000
DTSTAMP:20260422T042006
CREATED:20170131T101930Z
LAST-MODIFIED:20170220T091228Z
UID:7345-1487617200-1487624400@www.sympossio.gr
SUMMARY:Sympossio in Milan\, Italy
DESCRIPTION:
URL:https://www.sympossio.gr/event/sympossio-in-verona-italy/
LOCATION:Food Genius Academy\, Viale col de lana\,8\, Milan\, 20136\, Italy
END:VEVENT
BEGIN:VEVENT
DTSTART;TZID=Europe/Athens:20170215T170000
DTEND;TZID=Europe/Athens:20170215T190000
DTSTAMP:20260422T042006
CREATED:20170131T101609Z
LAST-MODIFIED:20170131T101728Z
UID:7340-1487178000-1487185200@www.sympossio.gr
SUMMARY:Sympossio in Bratislava\, Slovakia
DESCRIPTION:
URL:https://www.sympossio.gr/event/sympossio-in-bratislava-2/
LOCATION:Chef Parade\, Kosicka 58\, bratislava\, 821 08\, Slovakia (Slovak Republic)
ORGANIZER;CN="Hydrotour":MAILTO:hydrotour@hydrotour.sk 
END:VEVENT
BEGIN:VEVENT
DTSTART;TZID=Europe/Athens:20170214T170000
DTEND;TZID=Europe/Athens:20170214T190000
DTSTAMP:20260422T042006
CREATED:20170131T101452Z
LAST-MODIFIED:20170131T101748Z
UID:7338-1487091600-1487098800@www.sympossio.gr
SUMMARY:Sympossio in Bratislava\, Slovakia
DESCRIPTION:
URL:https://www.sympossio.gr/event/sympossio-in-bratislava/
LOCATION:Chef Parade\, Kosicka 58\, bratislava\, 821 08\, Slovakia (Slovak Republic)
ORGANIZER;CN="Hydrotour":MAILTO:hydrotour@hydrotour.sk 
END:VEVENT
BEGIN:VEVENT
DTSTART;TZID=Europe/Athens:20160404T190000
DTEND;TZID=Europe/Athens:20160404T210000
DTSTAMP:20260422T042006
CREATED:20160324T074317Z
LAST-MODIFIED:20160324T074317Z
UID:5690-1459796400-1459803600@www.sympossio.gr
SUMMARY:Sympossio in London\, UK
DESCRIPTION:
URL:https://www.sympossio.gr/event/sympossio-in-london-uk/
LOCATION:L’Atelier des chefs\, St. Pauls\, 10 Foster Lane\, St. Paul's \, London\, EC2V6HR\, United Kingdom
END:VEVENT
BEGIN:VEVENT
DTSTART;TZID=Europe/Athens:20160329T190000
DTEND;TZID=Europe/Athens:20160329T210000
DTSTAMP:20260422T042006
CREATED:20160324T074625Z
LAST-MODIFIED:20160324T074625Z
UID:5693-1459278000-1459285200@www.sympossio.gr
SUMMARY:Sympossio in Athens\, Greece
DESCRIPTION:
URL:https://www.sympossio.gr/event/sympossio-in-athens-greece/
LOCATION:Mathimata Mageirikis\, Vouliagmenis Avenue 299\,  Ag.Dimitrios\, Athens\, 17343\, Greece
END:VEVENT
BEGIN:VEVENT
DTSTART;TZID=Europe/Athens:20160327T190000
DTEND;TZID=Europe/Athens:20160328T190000
DTSTAMP:20260422T042006
CREATED:20160215T103553Z
LAST-MODIFIED:20160215T103553Z
UID:5291-1459105200-1459191600@www.sympossio.gr
SUMMARY:Sympossio event in Tel Aviv\, Israel
DESCRIPTION:
URL:https://www.sympossio.gr/event/sympossio-event-in-tel-aviv-israel/
END:VEVENT
BEGIN:VEVENT
DTSTART;TZID=Europe/Athens:20160324T190000
DTEND;TZID=Europe/Athens:20160324T210000
DTSTAMP:20260422T042006
CREATED:20160215T103425Z
LAST-MODIFIED:20160226T095323Z
UID:5290-1458846000-1458853200@www.sympossio.gr
SUMMARY:Sympossio event in Paris\, France
DESCRIPTION:
URL:https://www.sympossio.gr/event/sympossio-event-in-paris-france/
LOCATION:Cook & Go\, 36 passage Charles Dallery\, rue de la roquette\, Paris\, 75011\, France
ATTACH;FMTTYPE=image/jpeg:https://www.sympossio.gr/wordpress/wp-content/uploads/2016/02/shutterstock_134655920_small.jpg
END:VEVENT
BEGIN:VEVENT
DTSTART;TZID=Europe/Athens:20160323T190000
DTEND;TZID=Europe/Athens:20160323T210000
DTSTAMP:20260422T042006
CREATED:20160215T103315Z
LAST-MODIFIED:20160226T094900Z
UID:5289-1458759600-1458766800@www.sympossio.gr
SUMMARY:Sympossio event in Lyon\, France
DESCRIPTION:
URL:https://www.sympossio.gr/event/sympossio-event-in-lyon-france/
LOCATION:Atelier des Chefs\, 8\, rue st Nizier\, Leon\, 69002\, France
ATTACH;FMTTYPE=image/jpeg:https://www.sympossio.gr/wordpress/wp-content/uploads/2016/02/shutterstock_106504838_-small.jpg
END:VEVENT
END:VCALENDAR