BEGIN:VCALENDAR
VERSION:2.0
PRODID:-//Sympossio - ECPv6.15.20//NONSGML v1.0//EN
CALSCALE:GREGORIAN
METHOD:PUBLISH
X-ORIGINAL-URL:https://www.sympossio.gr
X-WR-CALDESC:Events for Sympossio
REFRESH-INTERVAL;VALUE=DURATION:PT1H
X-Robots-Tag:noindex
X-PUBLISHED-TTL:PT1H
BEGIN:VTIMEZONE
TZID:Europe/Athens
BEGIN:DAYLIGHT
TZOFFSETFROM:+0200
TZOFFSETTO:+0300
TZNAME:EEST
DTSTART:20150329T010000
END:DAYLIGHT
BEGIN:STANDARD
TZOFFSETFROM:+0300
TZOFFSETTO:+0200
TZNAME:EET
DTSTART:20151025T010000
END:STANDARD
BEGIN:DAYLIGHT
TZOFFSETFROM:+0200
TZOFFSETTO:+0300
TZNAME:EEST
DTSTART:20160327T010000
END:DAYLIGHT
BEGIN:STANDARD
TZOFFSETFROM:+0300
TZOFFSETTO:+0200
TZNAME:EET
DTSTART:20161030T010000
END:STANDARD
BEGIN:DAYLIGHT
TZOFFSETFROM:+0200
TZOFFSETTO:+0300
TZNAME:EEST
DTSTART:20170326T010000
END:DAYLIGHT
BEGIN:STANDARD
TZOFFSETFROM:+0300
TZOFFSETTO:+0200
TZNAME:EET
DTSTART:20171029T010000
END:STANDARD
END:VTIMEZONE
BEGIN:VEVENT
DTSTART;TZID=Europe/Athens:20160322T190000
DTEND;TZID=Europe/Athens:20160322T210000
DTSTAMP:20260422T123018
CREATED:20160215T103217Z
LAST-MODIFIED:20160226T095107Z
UID:5287-1458673200-1458680400@www.sympossio.gr
SUMMARY:Sympossio event in Nantes\, France
DESCRIPTION:
URL:https://www.sympossio.gr/event/sympossio-event-in-nant-france/
LOCATION:Cook & Go\, 3\, rue Leon Maitre\, Nante\, 4400\, France
ATTACH;FMTTYPE=image/jpeg:https://www.sympossio.gr/wordpress/wp-content/uploads/2016/02/shutterstock_185406437_small.jpg
END:VEVENT
BEGIN:VEVENT
DTSTART;TZID=Europe/Athens:20160317T190000
DTEND;TZID=Europe/Athens:20160317T210000
DTSTAMP:20260422T123018
CREATED:20160215T103008Z
LAST-MODIFIED:20160215T103008Z
UID:5284-1458241200-1458248400@www.sympossio.gr
SUMMARY:Sympossio event in Munich\, Germany
DESCRIPTION:
URL:https://www.sympossio.gr/event/sympossio-event-in-munich-germany/
ATTACH;FMTTYPE=image/jpeg:https://www.sympossio.gr/wordpress/wp-content/uploads/2016/02/shutterstock_290839331_1.jpg
END:VEVENT
BEGIN:VEVENT
DTSTART;TZID=Europe/Athens:20160316T190000
DTEND;TZID=Europe/Athens:20160316T210000
DTSTAMP:20260422T123018
CREATED:20160215T102719Z
LAST-MODIFIED:20160215T102719Z
UID:5281-1458154800-1458162000@www.sympossio.gr
SUMMARY:Sympossio event in Frankfurt\, Germany
DESCRIPTION:
URL:https://www.sympossio.gr/event/sympossio-event-in-frankfurt-germany/
ATTACH;FMTTYPE=image/jpeg:https://www.sympossio.gr/wordpress/wp-content/uploads/2016/02/shutterstock_145475239.jpg
END:VEVENT
BEGIN:VEVENT
DTSTART;TZID=Europe/Athens:20160314T190000
DTEND;TZID=Europe/Athens:20160314T210000
DTSTAMP:20260422T123018
CREATED:20160215T102532Z
LAST-MODIFIED:20160215T102532Z
UID:5277-1457982000-1457989200@www.sympossio.gr
SUMMARY:Sympossio event in Berlin\, Germany
DESCRIPTION:
URL:https://www.sympossio.gr/event/sympossio-event-in-berlin-germany/
ATTACH;FMTTYPE=image/jpeg:https://www.sympossio.gr/wordpress/wp-content/uploads/2016/02/shutterstock_172674986_1.jpg
END:VEVENT
BEGIN:VEVENT
DTSTART;TZID=Europe/Athens:20160303T190000
DTEND;TZID=Europe/Athens:20160303T210000
DTSTAMP:20260422T123018
CREATED:20160215T101435Z
LAST-MODIFIED:20160215T101435Z
UID:5273-1457031600-1457038800@www.sympossio.gr
SUMMARY:Sympossio event in Prague\, Czech Republic
DESCRIPTION:
URL:https://www.sympossio.gr/event/sympossio-event-in-prague-czech-republic/
LOCATION:Chef Parade\, Bubenske nabr. 306/13\, hall 36\, Prague 7 - Holesovice\, 170 00\, Czech Republic
ATTACH;FMTTYPE=image/jpeg:https://www.sympossio.gr/wordpress/wp-content/uploads/2016/02/shutterstock_222064795.jpg
END:VEVENT
BEGIN:VEVENT
DTSTART;TZID=Europe/Athens:20160301T190000
DTEND;TZID=Europe/Athens:20160301T210000
DTSTAMP:20260422T123018
CREATED:20160215T094957Z
LAST-MODIFIED:20160224T130329Z
UID:5269-1456858800-1456866000@www.sympossio.gr
SUMMARY:Sympossio event in Bucharest\, Romania
DESCRIPTION:
URL:https://www.sympossio.gr/event/sympossio-event-in-bucharest-romania/
LOCATION:Chef Parade\, 89-97 Grigore Alexandrescu str.\, Ground Floor (P)\, corp B\, room 1\, Bucharest\, 010624\, Romania
ATTACH;FMTTYPE=image/jpeg:https://www.sympossio.gr/wordpress/wp-content/uploads/2016/02/shutterstock_106762430.jpg
ORGANIZER;CN="Cocktail Holidays":MAILTO:bucuresti@cocktailholidays.ro
END:VEVENT
BEGIN:VEVENT
DTSTART;TZID=Europe/Athens:20160223T190000
DTEND;TZID=Europe/Athens:20160223T210000
DTSTAMP:20260422T123018
CREATED:20160126T154444Z
LAST-MODIFIED:20160215T094301Z
UID:4815-1456254000-1456261200@www.sympossio.gr
SUMMARY:Sympossio event in Naples\, Italy
DESCRIPTION:
URL:https://www.sympossio.gr/event/sympossio-event-in-milan-italy/
LOCATION:Toffini Academy\, Via Giuseppe Martucci 35\, Naples\, 80121\, Italy
ORGANIZER;CN="Aldemar Resorts":MAILTO:sales@aldemar.gr
END:VEVENT
BEGIN:VEVENT
DTSTART;TZID=Europe/Athens:20160218T190000
DTEND;TZID=Europe/Athens:20160218T210000
DTSTAMP:20260422T123018
CREATED:20160201T142441Z
LAST-MODIFIED:20160201T142441Z
UID:4897-1455822000-1455829200@www.sympossio.gr
SUMMARY:Sympossio Event in Terni \, Italy
DESCRIPTION:
URL:https://www.sympossio.gr/event/sympossio-event-in-terni-italy/
LOCATION:Chef Academy\, Piazza Clai\, 19\, Terni\, 05 100\, Italy
END:VEVENT
BEGIN:VEVENT
DTSTART;TZID=Europe/Athens:20160210T190000
DTEND;TZID=Europe/Athens:20160210T210000
DTSTAMP:20260422T123018
CREATED:20160126T153929Z
LAST-MODIFIED:20160201T135334Z
UID:4813-1455130800-1455138000@www.sympossio.gr
SUMMARY:Sympossio event in Warsaw \, Poland
DESCRIPTION:
URL:https://www.sympossio.gr/event/sympossio-event-in-warsaw-poland/
LOCATION:CookUp\, ul. Zeromskiego 17c\, Warsaw\, 01 882\, Poland
ATTACH;FMTTYPE=image/jpeg:https://www.sympossio.gr/wordpress/wp-content/uploads/2016/01/shutterstock_142865488.jpg
END:VEVENT
BEGIN:VEVENT
DTSTART;TZID=Europe/Athens:20160209T190000
DTEND;TZID=Europe/Athens:20160209T210000
DTSTAMP:20260422T123018
CREATED:20160126T153349Z
LAST-MODIFIED:20160201T135220Z
UID:4810-1455044400-1455051600@www.sympossio.gr
SUMMARY:Sympossio event  in Poznan\, Poland
DESCRIPTION:
URL:https://www.sympossio.gr/event/sympossio-event-in-poznan-poland/
LOCATION:CookUp\, ul. Dabrowskiego 29\, Poznan\, 60840\, Poland
ATTACH;FMTTYPE=image/jpeg:https://www.sympossio.gr/wordpress/wp-content/uploads/2016/01/shutterstock_219103840.jpg
END:VEVENT
END:VCALENDAR