BEGIN:VCALENDAR
VERSION:2.0
PRODID:-//Sympossio - ECPv6.15.20//NONSGML v1.0//EN
CALSCALE:GREGORIAN
METHOD:PUBLISH
X-WR-CALNAME:Sympossio
X-ORIGINAL-URL:https://www.sympossio.gr
X-WR-CALDESC:Events for Sympossio
REFRESH-INTERVAL;VALUE=DURATION:PT1H
X-Robots-Tag:noindex
X-PUBLISHED-TTL:PT1H
BEGIN:VTIMEZONE
TZID:Europe/Athens
BEGIN:DAYLIGHT
TZOFFSETFROM:+0200
TZOFFSETTO:+0300
TZNAME:EEST
DTSTART:20150329T010000
END:DAYLIGHT
BEGIN:STANDARD
TZOFFSETFROM:+0300
TZOFFSETTO:+0200
TZNAME:EET
DTSTART:20151025T010000
END:STANDARD
BEGIN:DAYLIGHT
TZOFFSETFROM:+0200
TZOFFSETTO:+0300
TZNAME:EEST
DTSTART:20160327T010000
END:DAYLIGHT
BEGIN:STANDARD
TZOFFSETFROM:+0300
TZOFFSETTO:+0200
TZNAME:EET
DTSTART:20161030T010000
END:STANDARD
BEGIN:DAYLIGHT
TZOFFSETFROM:+0200
TZOFFSETTO:+0300
TZNAME:EEST
DTSTART:20170326T010000
END:DAYLIGHT
BEGIN:STANDARD
TZOFFSETFROM:+0300
TZOFFSETTO:+0200
TZNAME:EET
DTSTART:20171029T010000
END:STANDARD
BEGIN:DAYLIGHT
TZOFFSETFROM:+0200
TZOFFSETTO:+0300
TZNAME:EEST
DTSTART:20180325T010000
END:DAYLIGHT
BEGIN:STANDARD
TZOFFSETFROM:+0300
TZOFFSETTO:+0200
TZNAME:EET
DTSTART:20181028T010000
END:STANDARD
END:VTIMEZONE
BEGIN:VEVENT
DTSTART;TZID=Europe/Athens:20170302T190000
DTEND;TZID=Europe/Athens:20170302T210000
DTSTAMP:20260422T091521
CREATED:20170131T102353Z
LAST-MODIFIED:20170131T102353Z
UID:7354-1488481200-1488488400@www.sympossio.gr
SUMMARY:Sympossio in Bucharest\, Romania
DESCRIPTION:
URL:https://www.sympossio.gr/event/sympossio-in-bucharest-romania/
ORGANIZER;CN="Cocktail Holidays":MAILTO:bucuresti@cocktailholidays.ro
END:VEVENT
BEGIN:VEVENT
DTSTART;TZID=Europe/Athens:20170228T190000
DTEND;TZID=Europe/Athens:20170228T210000
DTSTAMP:20260422T091521
CREATED:20170131T102237Z
LAST-MODIFIED:20170131T102237Z
UID:7352-1488308400-1488315600@www.sympossio.gr
SUMMARY:Sympossio in Prague\, Czech Republic
DESCRIPTION:
URL:https://www.sympossio.gr/event/sympossio-in-prague-czech-republic/
END:VEVENT
BEGIN:VEVENT
DTSTART;TZID=Europe/Athens:20170223T190000
DTEND;TZID=Europe/Athens:20170223T210000
DTSTAMP:20260422T091521
CREATED:20170131T102131Z
LAST-MODIFIED:20170131T102131Z
UID:7350-1487876400-1487883600@www.sympossio.gr
SUMMARY:Sympossio in Rome\, Italy
DESCRIPTION:
URL:https://www.sympossio.gr/event/sympossio-in-rome-italy/
ORGANIZER;CN="Aldemar Resorts":MAILTO:sales@aldemar.gr
END:VEVENT
BEGIN:VEVENT
DTSTART;TZID=Europe/Athens:20170221T190000
DTEND;TZID=Europe/Athens:20170221T210000
DTSTAMP:20260422T091521
CREATED:20170131T102035Z
LAST-MODIFIED:20170220T091403Z
UID:7348-1487703600-1487710800@www.sympossio.gr
SUMMARY:Sympossio in Bologna \, Italy
DESCRIPTION:
URL:https://www.sympossio.gr/event/sympossio-in-bologna-italy/
LOCATION:A Scuola Di Gusto\, Via Cesare Gnudi 5\, Bologna\, 40127\, Italy
END:VEVENT
BEGIN:VEVENT
DTSTART;TZID=Europe/Athens:20170220T190000
DTEND;TZID=Europe/Athens:20170220T210000
DTSTAMP:20260422T091521
CREATED:20170131T101930Z
LAST-MODIFIED:20170220T091228Z
UID:7345-1487617200-1487624400@www.sympossio.gr
SUMMARY:Sympossio in Milan\, Italy
DESCRIPTION:
URL:https://www.sympossio.gr/event/sympossio-in-verona-italy/
LOCATION:Food Genius Academy\, Viale col de lana\,8\, Milan\, 20136\, Italy
END:VEVENT
BEGIN:VEVENT
DTSTART;TZID=Europe/Athens:20170215T170000
DTEND;TZID=Europe/Athens:20170215T190000
DTSTAMP:20260422T091521
CREATED:20170131T101609Z
LAST-MODIFIED:20170131T101728Z
UID:7340-1487178000-1487185200@www.sympossio.gr
SUMMARY:Sympossio in Bratislava\, Slovakia
DESCRIPTION:
URL:https://www.sympossio.gr/event/sympossio-in-bratislava-2/
LOCATION:Chef Parade\, Kosicka 58\, bratislava\, 821 08\, Slovakia (Slovak Republic)
ORGANIZER;CN="Hydrotour":MAILTO:hydrotour@hydrotour.sk 
END:VEVENT
BEGIN:VEVENT
DTSTART;TZID=Europe/Athens:20170214T170000
DTEND;TZID=Europe/Athens:20170214T190000
DTSTAMP:20260422T091521
CREATED:20170131T101452Z
LAST-MODIFIED:20170131T101748Z
UID:7338-1487091600-1487098800@www.sympossio.gr
SUMMARY:Sympossio in Bratislava\, Slovakia
DESCRIPTION:
URL:https://www.sympossio.gr/event/sympossio-in-bratislava/
LOCATION:Chef Parade\, Kosicka 58\, bratislava\, 821 08\, Slovakia (Slovak Republic)
ORGANIZER;CN="Hydrotour":MAILTO:hydrotour@hydrotour.sk 
END:VEVENT
BEGIN:VEVENT
DTSTART;TZID=Europe/Athens:20160404T190000
DTEND;TZID=Europe/Athens:20160404T210000
DTSTAMP:20260422T091521
CREATED:20160324T074317Z
LAST-MODIFIED:20160324T074317Z
UID:5690-1459796400-1459803600@www.sympossio.gr
SUMMARY:Sympossio in London\, UK
DESCRIPTION:
URL:https://www.sympossio.gr/event/sympossio-in-london-uk/
LOCATION:L’Atelier des chefs\, St. Pauls\, 10 Foster Lane\, St. Paul's \, London\, EC2V6HR\, United Kingdom
END:VEVENT
BEGIN:VEVENT
DTSTART;TZID=Europe/Athens:20160329T190000
DTEND;TZID=Europe/Athens:20160329T210000
DTSTAMP:20260422T091521
CREATED:20160324T074625Z
LAST-MODIFIED:20160324T074625Z
UID:5693-1459278000-1459285200@www.sympossio.gr
SUMMARY:Sympossio in Athens\, Greece
DESCRIPTION:
URL:https://www.sympossio.gr/event/sympossio-in-athens-greece/
LOCATION:Mathimata Mageirikis\, Vouliagmenis Avenue 299\,  Ag.Dimitrios\, Athens\, 17343\, Greece
END:VEVENT
BEGIN:VEVENT
DTSTART;TZID=Europe/Athens:20160327T190000
DTEND;TZID=Europe/Athens:20160328T190000
DTSTAMP:20260422T091521
CREATED:20160215T103553Z
LAST-MODIFIED:20160215T103553Z
UID:5291-1459105200-1459191600@www.sympossio.gr
SUMMARY:Sympossio event in Tel Aviv\, Israel
DESCRIPTION:
URL:https://www.sympossio.gr/event/sympossio-event-in-tel-aviv-israel/
END:VEVENT
BEGIN:VEVENT
DTSTART;TZID=Europe/Athens:20160324T190000
DTEND;TZID=Europe/Athens:20160324T210000
DTSTAMP:20260422T091521
CREATED:20160215T103425Z
LAST-MODIFIED:20160226T095323Z
UID:5290-1458846000-1458853200@www.sympossio.gr
SUMMARY:Sympossio event in Paris\, France
DESCRIPTION:
URL:https://www.sympossio.gr/event/sympossio-event-in-paris-france/
LOCATION:Cook & Go\, 36 passage Charles Dallery\, rue de la roquette\, Paris\, 75011\, France
ATTACH;FMTTYPE=image/jpeg:https://www.sympossio.gr/wordpress/wp-content/uploads/2016/02/shutterstock_134655920_small.jpg
END:VEVENT
BEGIN:VEVENT
DTSTART;TZID=Europe/Athens:20160323T190000
DTEND;TZID=Europe/Athens:20160323T210000
DTSTAMP:20260422T091521
CREATED:20160215T103315Z
LAST-MODIFIED:20160226T094900Z
UID:5289-1458759600-1458766800@www.sympossio.gr
SUMMARY:Sympossio event in Lyon\, France
DESCRIPTION:
URL:https://www.sympossio.gr/event/sympossio-event-in-lyon-france/
LOCATION:Atelier des Chefs\, 8\, rue st Nizier\, Leon\, 69002\, France
ATTACH;FMTTYPE=image/jpeg:https://www.sympossio.gr/wordpress/wp-content/uploads/2016/02/shutterstock_106504838_-small.jpg
END:VEVENT
BEGIN:VEVENT
DTSTART;TZID=Europe/Athens:20160322T190000
DTEND;TZID=Europe/Athens:20160322T210000
DTSTAMP:20260422T091521
CREATED:20160215T103217Z
LAST-MODIFIED:20160226T095107Z
UID:5287-1458673200-1458680400@www.sympossio.gr
SUMMARY:Sympossio event in Nantes\, France
DESCRIPTION:
URL:https://www.sympossio.gr/event/sympossio-event-in-nant-france/
LOCATION:Cook & Go\, 3\, rue Leon Maitre\, Nante\, 4400\, France
ATTACH;FMTTYPE=image/jpeg:https://www.sympossio.gr/wordpress/wp-content/uploads/2016/02/shutterstock_185406437_small.jpg
END:VEVENT
BEGIN:VEVENT
DTSTART;TZID=Europe/Athens:20160317T190000
DTEND;TZID=Europe/Athens:20160317T210000
DTSTAMP:20260422T091521
CREATED:20160215T103008Z
LAST-MODIFIED:20160215T103008Z
UID:5284-1458241200-1458248400@www.sympossio.gr
SUMMARY:Sympossio event in Munich\, Germany
DESCRIPTION:
URL:https://www.sympossio.gr/event/sympossio-event-in-munich-germany/
ATTACH;FMTTYPE=image/jpeg:https://www.sympossio.gr/wordpress/wp-content/uploads/2016/02/shutterstock_290839331_1.jpg
END:VEVENT
BEGIN:VEVENT
DTSTART;TZID=Europe/Athens:20160316T190000
DTEND;TZID=Europe/Athens:20160316T210000
DTSTAMP:20260422T091521
CREATED:20160215T102719Z
LAST-MODIFIED:20160215T102719Z
UID:5281-1458154800-1458162000@www.sympossio.gr
SUMMARY:Sympossio event in Frankfurt\, Germany
DESCRIPTION:
URL:https://www.sympossio.gr/event/sympossio-event-in-frankfurt-germany/
ATTACH;FMTTYPE=image/jpeg:https://www.sympossio.gr/wordpress/wp-content/uploads/2016/02/shutterstock_145475239.jpg
END:VEVENT
BEGIN:VEVENT
DTSTART;TZID=Europe/Athens:20160314T190000
DTEND;TZID=Europe/Athens:20160314T210000
DTSTAMP:20260422T091521
CREATED:20160215T102532Z
LAST-MODIFIED:20160215T102532Z
UID:5277-1457982000-1457989200@www.sympossio.gr
SUMMARY:Sympossio event in Berlin\, Germany
DESCRIPTION:
URL:https://www.sympossio.gr/event/sympossio-event-in-berlin-germany/
ATTACH;FMTTYPE=image/jpeg:https://www.sympossio.gr/wordpress/wp-content/uploads/2016/02/shutterstock_172674986_1.jpg
END:VEVENT
BEGIN:VEVENT
DTSTART;TZID=Europe/Athens:20160303T190000
DTEND;TZID=Europe/Athens:20160303T210000
DTSTAMP:20260422T091521
CREATED:20160215T101435Z
LAST-MODIFIED:20160215T101435Z
UID:5273-1457031600-1457038800@www.sympossio.gr
SUMMARY:Sympossio event in Prague\, Czech Republic
DESCRIPTION:
URL:https://www.sympossio.gr/event/sympossio-event-in-prague-czech-republic/
LOCATION:Chef Parade\, Bubenske nabr. 306/13\, hall 36\, Prague 7 - Holesovice\, 170 00\, Czech Republic
ATTACH;FMTTYPE=image/jpeg:https://www.sympossio.gr/wordpress/wp-content/uploads/2016/02/shutterstock_222064795.jpg
END:VEVENT
BEGIN:VEVENT
DTSTART;TZID=Europe/Athens:20160301T190000
DTEND;TZID=Europe/Athens:20160301T210000
DTSTAMP:20260422T091521
CREATED:20160215T094957Z
LAST-MODIFIED:20160224T130329Z
UID:5269-1456858800-1456866000@www.sympossio.gr
SUMMARY:Sympossio event in Bucharest\, Romania
DESCRIPTION:
URL:https://www.sympossio.gr/event/sympossio-event-in-bucharest-romania/
LOCATION:Chef Parade\, 89-97 Grigore Alexandrescu str.\, Ground Floor (P)\, corp B\, room 1\, Bucharest\, 010624\, Romania
ATTACH;FMTTYPE=image/jpeg:https://www.sympossio.gr/wordpress/wp-content/uploads/2016/02/shutterstock_106762430.jpg
ORGANIZER;CN="Cocktail Holidays":MAILTO:bucuresti@cocktailholidays.ro
END:VEVENT
BEGIN:VEVENT
DTSTART;TZID=Europe/Athens:20160223T190000
DTEND;TZID=Europe/Athens:20160223T210000
DTSTAMP:20260422T091521
CREATED:20160126T154444Z
LAST-MODIFIED:20160215T094301Z
UID:4815-1456254000-1456261200@www.sympossio.gr
SUMMARY:Sympossio event in Naples\, Italy
DESCRIPTION:
URL:https://www.sympossio.gr/event/sympossio-event-in-milan-italy/
LOCATION:Toffini Academy\, Via Giuseppe Martucci 35\, Naples\, 80121\, Italy
ORGANIZER;CN="Aldemar Resorts":MAILTO:sales@aldemar.gr
END:VEVENT
BEGIN:VEVENT
DTSTART;TZID=Europe/Athens:20160218T190000
DTEND;TZID=Europe/Athens:20160218T210000
DTSTAMP:20260422T091521
CREATED:20160201T142441Z
LAST-MODIFIED:20160201T142441Z
UID:4897-1455822000-1455829200@www.sympossio.gr
SUMMARY:Sympossio Event in Terni \, Italy
DESCRIPTION:
URL:https://www.sympossio.gr/event/sympossio-event-in-terni-italy/
LOCATION:Chef Academy\, Piazza Clai\, 19\, Terni\, 05 100\, Italy
END:VEVENT
BEGIN:VEVENT
DTSTART;TZID=Europe/Athens:20160210T190000
DTEND;TZID=Europe/Athens:20160210T210000
DTSTAMP:20260422T091521
CREATED:20160126T153929Z
LAST-MODIFIED:20160201T135334Z
UID:4813-1455130800-1455138000@www.sympossio.gr
SUMMARY:Sympossio event in Warsaw \, Poland
DESCRIPTION:
URL:https://www.sympossio.gr/event/sympossio-event-in-warsaw-poland/
LOCATION:CookUp\, ul. Zeromskiego 17c\, Warsaw\, 01 882\, Poland
ATTACH;FMTTYPE=image/jpeg:https://www.sympossio.gr/wordpress/wp-content/uploads/2016/01/shutterstock_142865488.jpg
END:VEVENT
BEGIN:VEVENT
DTSTART;TZID=Europe/Athens:20160209T190000
DTEND;TZID=Europe/Athens:20160209T210000
DTSTAMP:20260422T091521
CREATED:20160126T153349Z
LAST-MODIFIED:20160201T135220Z
UID:4810-1455044400-1455051600@www.sympossio.gr
SUMMARY:Sympossio event  in Poznan\, Poland
DESCRIPTION:
URL:https://www.sympossio.gr/event/sympossio-event-in-poznan-poland/
LOCATION:CookUp\, ul. Dabrowskiego 29\, Poznan\, 60840\, Poland
ATTACH;FMTTYPE=image/jpeg:https://www.sympossio.gr/wordpress/wp-content/uploads/2016/01/shutterstock_219103840.jpg
END:VEVENT
END:VCALENDAR