BEGIN:VCALENDAR
VERSION:2.0
PRODID:-//Sympossio - ECPv6.15.20//NONSGML v1.0//EN
CALSCALE:GREGORIAN
METHOD:PUBLISH
X-ORIGINAL-URL:https://www.sympossio.gr
X-WR-CALDESC:Events for Sympossio
REFRESH-INTERVAL;VALUE=DURATION:PT1H
X-Robots-Tag:noindex
X-PUBLISHED-TTL:PT1H
BEGIN:VTIMEZONE
TZID:Europe/Athens
BEGIN:DAYLIGHT
TZOFFSETFROM:+0200
TZOFFSETTO:+0300
TZNAME:EEST
DTSTART:20170326T010000
END:DAYLIGHT
BEGIN:STANDARD
TZOFFSETFROM:+0300
TZOFFSETTO:+0200
TZNAME:EET
DTSTART:20171029T010000
END:STANDARD
BEGIN:DAYLIGHT
TZOFFSETFROM:+0200
TZOFFSETTO:+0300
TZNAME:EEST
DTSTART:20180325T010000
END:DAYLIGHT
BEGIN:STANDARD
TZOFFSETFROM:+0300
TZOFFSETTO:+0200
TZNAME:EET
DTSTART:20181028T010000
END:STANDARD
BEGIN:DAYLIGHT
TZOFFSETFROM:+0200
TZOFFSETTO:+0300
TZNAME:EEST
DTSTART:20190331T010000
END:DAYLIGHT
BEGIN:STANDARD
TZOFFSETFROM:+0300
TZOFFSETTO:+0200
TZNAME:EET
DTSTART:20191027T010000
END:STANDARD
BEGIN:DAYLIGHT
TZOFFSETFROM:+0200
TZOFFSETTO:+0300
TZNAME:EEST
DTSTART:20200329T010000
END:DAYLIGHT
BEGIN:STANDARD
TZOFFSETFROM:+0300
TZOFFSETTO:+0200
TZNAME:EET
DTSTART:20201025T010000
END:STANDARD
END:VTIMEZONE
BEGIN:VEVENT
DTSTART;TZID=Europe/Athens:20190221T190000
DTEND;TZID=Europe/Athens:20190221T210000
DTSTAMP:20260421T183901
CREATED:20191014T102827Z
LAST-MODIFIED:20191106T110034Z
UID:18238-1550775600-1550782800@www.sympossio.gr
SUMMARY:Sympossio in Naples\, IT
DESCRIPTION:
URL:https://www.sympossio.gr/event/sympossio-in-naples-it/
LOCATION:Eccellenze Campane\, Via Brin Benedetto\, 69\, Napoli\, 80142\, Italy
END:VEVENT
BEGIN:VEVENT
DTSTART;TZID=Europe/Athens:20190220T190000
DTEND;TZID=Europe/Athens:20190220T210000
DTSTAMP:20260421T183901
CREATED:20191014T102657Z
LAST-MODIFIED:20191014T102657Z
UID:18235-1550689200-1550696400@www.sympossio.gr
SUMMARY:Sympossio in Pisa\, IT
DESCRIPTION:
URL:https://www.sympossio.gr/event/sympossio-in-pisa-it/
LOCATION:ScuolaTesseri\, Via Milano\, 24\, PISA\, 56038\, Italy
END:VEVENT
BEGIN:VEVENT
DTSTART;TZID=Europe/Athens:20190218T190000
DTEND;TZID=Europe/Athens:20190218T210000
DTSTAMP:20260421T183901
CREATED:20191014T101910Z
LAST-MODIFIED:20191014T101910Z
UID:18233-1550516400-1550523600@www.sympossio.gr
SUMMARY:Sympossio in Vicenza\, IT
DESCRIPTION:
URL:https://www.sympossio.gr/event/sympossio-in-vicenza-it/
LOCATION:Dieffe Accademia delle Professioni\, Via Risorgimento\, 29\, \, Padova\, 35027\, Italy
END:VEVENT
BEGIN:VEVENT
DTSTART;TZID=Europe/Athens:20190214T190000
DTEND;TZID=Europe/Athens:20190214T210000
DTSTAMP:20260421T183901
CREATED:20191014T101632Z
LAST-MODIFIED:20191014T101632Z
UID:18231-1550170800-1550178000@www.sympossio.gr
SUMMARY:Sympossio in Milan\, IT
DESCRIPTION:
URL:https://www.sympossio.gr/event/sympossio-in-milan-it/
LOCATION:Food Genius Academy\, Viale col de lana\,8\, Milan\, 20136\, Italy
END:VEVENT
BEGIN:VEVENT
DTSTART;TZID=Europe/Athens:20190213T190000
DTEND;TZID=Europe/Athens:20190213T210000
DTSTAMP:20260421T183901
CREATED:20191014T101507Z
LAST-MODIFIED:20191014T101507Z
UID:18229-1550084400-1550091600@www.sympossio.gr
SUMMARY:Sympossio in Turin\, IT
DESCRIPTION:
URL:https://www.sympossio.gr/event/sympossio-in-turin-it/
LOCATION:Eataly Lingotto\, Via Nizza 230/14\, Torino\, 10126\, Italy
END:VEVENT
BEGIN:VEVENT
DTSTART;TZID=Europe/Athens:20190211T190000
DTEND;TZID=Europe/Athens:20190211T210000
DTSTAMP:20260421T183901
CREATED:20191014T084818Z
LAST-MODIFIED:20191014T101223Z
UID:18224-1549911600-1549918800@www.sympossio.gr
SUMMARY:Sympossio in Genova\,IT
DESCRIPTION:
URL:https://www.sympossio.gr/event/sympossio-in-italy/
LOCATION:Eataly Genova\, Calata Cattaneo\, 15\, Genova\, 16126\, Italy
END:VEVENT
BEGIN:VEVENT
DTSTART;TZID=Europe/Athens:20180329T190000
DTEND;TZID=Europe/Athens:20180329T210000
DTSTAMP:20260421T183901
CREATED:20180302T104220Z
LAST-MODIFIED:20180302T104220Z
UID:12810-1522350000-1522357200@www.sympossio.gr
SUMMARY:Sympossio in Kiev\, UA
DESCRIPTION:
URL:https://www.sympossio.gr/event/sympossio-in-kiev-ua/
END:VEVENT
BEGIN:VEVENT
DTSTART;TZID=Europe/Athens:20180329T190000
DTEND;TZID=Europe/Athens:20180329T210000
DTSTAMP:20260421T183901
CREATED:20180302T104131Z
LAST-MODIFIED:20180302T104131Z
UID:12807-1522350000-1522357200@www.sympossio.gr
SUMMARY:Sympossio in Lyon\, FR
DESCRIPTION:
URL:https://www.sympossio.gr/event/sympossio-in-lyon-fr/
LOCATION:L’ Atelier des Chefs\, 8\,rue st Nizier \, Lyon\, 69002\, France
END:VEVENT
BEGIN:VEVENT
DTSTART;TZID=Europe/Athens:20180327T190000
DTEND;TZID=Europe/Athens:20180327T210000
DTSTAMP:20260421T183901
CREATED:20180302T103942Z
LAST-MODIFIED:20180302T103942Z
UID:12804-1522177200-1522184400@www.sympossio.gr
SUMMARY:Sympossio in Paris\, FR
DESCRIPTION:
URL:https://www.sympossio.gr/event/sympossio-in-paris-fr/
LOCATION:L’ Atelier des Chefs\, 10\, rue de Penthievre\, Paris\, 75008\, France
END:VEVENT
BEGIN:VEVENT
DTSTART;TZID=Europe/Athens:20180326T190000
DTEND;TZID=Europe/Athens:20180326T210000
DTSTAMP:20260421T183901
CREATED:20180302T103732Z
LAST-MODIFIED:20180302T103732Z
UID:12802-1522090800-1522098000@www.sympossio.gr
SUMMARY:Sympossio in Renne\, FR
DESCRIPTION:
URL:https://www.sympossio.gr/event/sympossio-in-renne-fr/
LOCATION:Cook & Go\, 6\, rue de la Parcheminerie\, Rennes\, 35000\, France
END:VEVENT
BEGIN:VEVENT
DTSTART;TZID=Europe/Athens:20180326T190000
DTEND;TZID=Europe/Athens:20180326T210000
DTSTAMP:20260421T183901
CREATED:20180302T103605Z
LAST-MODIFIED:20180302T103605Z
UID:12799-1522090800-1522098000@www.sympossio.gr
SUMMARY:Sympossio in Tel Aviv\, IL
DESCRIPTION:
URL:https://www.sympossio.gr/event/sympossio-in-tel-aviv-il/
END:VEVENT
BEGIN:VEVENT
DTSTART;TZID=Europe/Athens:20180323T190000
DTEND;TZID=Europe/Athens:20180323T210000
DTSTAMP:20260421T183901
CREATED:20180302T103419Z
LAST-MODIFIED:20180302T103419Z
UID:12797-1521831600-1521838800@www.sympossio.gr
SUMMARY:Sympossio in Warsaw\, PL
DESCRIPTION:
URL:https://www.sympossio.gr/event/sympossio-in-warsaw-pl/
LOCATION:CookUp\, ul. Zeromskiego 17c\, Warsaw\, 01 882\, Poland
END:VEVENT
BEGIN:VEVENT
DTSTART;TZID=Europe/Athens:20180323T190000
DTEND;TZID=Europe/Athens:20180323T210000
DTSTAMP:20260421T183901
CREATED:20180302T103222Z
LAST-MODIFIED:20180302T103222Z
UID:12795-1521831600-1521838800@www.sympossio.gr
SUMMARY:Greece on a dish in Tel Aviv\, IL
DESCRIPTION:
URL:https://www.sympossio.gr/event/greece-on-a-dish-in-tel-aviv-il-3/
END:VEVENT
BEGIN:VEVENT
DTSTART;TZID=Europe/Athens:20180322T190000
DTEND;TZID=Europe/Athens:20180322T210000
DTSTAMP:20260421T183901
CREATED:20180302T103127Z
LAST-MODIFIED:20180302T103127Z
UID:12791-1521745200-1521752400@www.sympossio.gr
SUMMARY:Sympossio in Katowice\,PL
DESCRIPTION:
URL:https://www.sympossio.gr/event/sympossio-in-katowicepl/
LOCATION:Centrum Culinare\, Adamieckiego 8 street\, Katowice\, 41-503 Chorzow\, Poland
END:VEVENT
BEGIN:VEVENT
DTSTART;TZID=Europe/Athens:20180322T190000
DTEND;TZID=Europe/Athens:20180322T190000
DTSTAMP:20260421T183901
CREATED:20180302T102853Z
LAST-MODIFIED:20180302T102853Z
UID:12789-1521745200-1521745200@www.sympossio.gr
SUMMARY:Greece on a dish in Tel Aviv\,IL
DESCRIPTION:
URL:https://www.sympossio.gr/event/greece-on-a-dish-in-tel-avivil/
END:VEVENT
BEGIN:VEVENT
DTSTART;TZID=Europe/Athens:20180321T190000
DTEND;TZID=Europe/Athens:20180321T210000
DTSTAMP:20260421T183901
CREATED:20180302T102807Z
LAST-MODIFIED:20180302T102807Z
UID:12787-1521658800-1521666000@www.sympossio.gr
SUMMARY:Greece on a dish in Tel Aviv\, IL
DESCRIPTION:
URL:https://www.sympossio.gr/event/greece-on-a-dish-in-tel-aviv-il-2/
END:VEVENT
BEGIN:VEVENT
DTSTART;TZID=Europe/Athens:20180320T190000
DTEND;TZID=Europe/Athens:20180320T210000
DTSTAMP:20260421T183901
CREATED:20180302T102720Z
LAST-MODIFIED:20180302T102720Z
UID:12785-1521572400-1521579600@www.sympossio.gr
SUMMARY:Greece on a dish  in Tel Aviv\, IL
DESCRIPTION:
URL:https://www.sympossio.gr/event/greece-on-a-dish-in-tel-aviv-il/
END:VEVENT
BEGIN:VEVENT
DTSTART;TZID=Europe/Athens:20180320T190000
DTEND;TZID=Europe/Athens:20180320T210000
DTSTAMP:20260421T183901
CREATED:20180302T102610Z
LAST-MODIFIED:20180302T102610Z
UID:12783-1521572400-1521579600@www.sympossio.gr
SUMMARY:Sympossio in Bratislava\, SK
DESCRIPTION:
URL:https://www.sympossio.gr/event/sympossio-in-bratislava-sk/
ORGANIZER;CN="Hydrotour":MAILTO:hydrotour@hydrotour.sk 
END:VEVENT
BEGIN:VEVENT
DTSTART;TZID=Europe/Athens:20180319T190000
DTEND;TZID=Europe/Athens:20180319T210000
DTSTAMP:20260421T183901
CREATED:20180302T102513Z
LAST-MODIFIED:20180302T102513Z
UID:12781-1521486000-1521493200@www.sympossio.gr
SUMMARY:Sympossio in Bratislava\,SK
DESCRIPTION:
URL:https://www.sympossio.gr/event/sympossio-in-bratislavask/
ORGANIZER;CN="Hydrotour":MAILTO:hydrotour@hydrotour.sk 
END:VEVENT
BEGIN:VEVENT
DTSTART;TZID=Europe/Athens:20180315T190000
DTEND;TZID=Europe/Athens:20180315T210000
DTSTAMP:20260421T183901
CREATED:20180302T102044Z
LAST-MODIFIED:20180302T102044Z
UID:12778-1521140400-1521147600@www.sympossio.gr
SUMMARY:Sympossios in Edinburgh\, UK
DESCRIPTION:
URL:https://www.sympossio.gr/event/sympossios-in-edinburgh-uk/
LOCATION:The Edinburgh New Town Cookery School\, 7\, Queen Street\, Edinburgh\, EH2 1JE\, United Kingdom
END:VEVENT
BEGIN:VEVENT
DTSTART;TZID=Europe/Athens:20180314T190000
DTEND;TZID=Europe/Athens:20180314T210000
DTSTAMP:20260421T183901
CREATED:20180302T101916Z
LAST-MODIFIED:20180302T101916Z
UID:12775-1521054000-1521061200@www.sympossio.gr
SUMMARY:Sympossio in Manchester\, UK
DESCRIPTION:
URL:https://www.sympossio.gr/event/sympossio-in-manchester-uk-2/
LOCATION:The Chesire Cookery School\, L&M Business Park\, Manchester\, WA14 4 EP\, United Kingdom
END:VEVENT
BEGIN:VEVENT
DTSTART;TZID=Europe/Athens:20180313T190000
DTEND;TZID=Europe/Athens:20180313T210000
DTSTAMP:20260421T183901
CREATED:20180302T101424Z
LAST-MODIFIED:20180302T101424Z
UID:12772-1520967600-1520974800@www.sympossio.gr
SUMMARY:Sympossio in Bucharest\, Romania
DESCRIPTION:
URL:https://www.sympossio.gr/event/sympossio-in-bucharest-romania-2/
LOCATION:Culinaryon\, Soseaua Pipera 48\, Hangar 5\, Sector 2\, Bucuresti\, 020112\, Romania
ORGANIZER;CN="Cocktail Holidays":MAILTO:bucuresti@cocktailholidays.ro
END:VEVENT
BEGIN:VEVENT
DTSTART;TZID=Europe/Athens:20180313T190000
DTEND;TZID=Europe/Athens:20180313T210000
DTSTAMP:20260421T183901
CREATED:20180302T101229Z
LAST-MODIFIED:20180302T101229Z
UID:12769-1520967600-1520974800@www.sympossio.gr
SUMMARY:Sympossio in Dublin\, UK
DESCRIPTION:
URL:https://www.sympossio.gr/event/sympossio-in-dublin-uk-2/
LOCATION:Cooks Academy Ltd.\, 19 South William Street\, Dublin 2\, United Kingdom
END:VEVENT
BEGIN:VEVENT
DTSTART;TZID=Europe/Athens:20180312T190000
DTEND;TZID=Europe/Athens:20180312T210000
DTSTAMP:20260421T183901
CREATED:20180302T101059Z
LAST-MODIFIED:20180302T101059Z
UID:12766-1520881200-1520888400@www.sympossio.gr
SUMMARY:Sympossio in London\, UK
DESCRIPTION:
URL:https://www.sympossio.gr/event/sympossio-in-london-uk-2/
LOCATION:Atelier des Chefs\, 8\, rue st Nizier\, Leon\, 69002\, France
END:VEVENT
BEGIN:VEVENT
DTSTART;TZID=Europe/Athens:20180302T190000
DTEND;TZID=Europe/Athens:20180302T210000
DTSTAMP:20260421T183901
CREATED:20180302T100933Z
LAST-MODIFIED:20180302T100933Z
UID:12762-1520017200-1520024400@www.sympossio.gr
SUMMARY:Sympossio in Brno\,CZ
DESCRIPTION:
URL:https://www.sympossio.gr/event/sympossio-in-brnocz/
LOCATION:Kuliner\, Bohunicka cesta 727/15\, Moravany\, 664 48\, Czech Republic
END:VEVENT
BEGIN:VEVENT
DTSTART;TZID=Europe/Athens:20180301T190000
DTEND;TZID=Europe/Athens:20180301T210000
DTSTAMP:20260421T183901
CREATED:20180302T100627Z
LAST-MODIFIED:20180302T100627Z
UID:12760-1519930800-1519938000@www.sympossio.gr
SUMMARY:Sympossio in Prague\,CZ
DESCRIPTION:
URL:https://www.sympossio.gr/event/sympossio-in-praguecz/
LOCATION:Chef Parade\, Bubenske nabr. 306/13\, hall 36\, Prague 7 - Holesovice\, 170 00\, Czech Republic
END:VEVENT
BEGIN:VEVENT
DTSTART;TZID=Europe/Athens:20180301T190000
DTEND;TZID=Europe/Athens:20180301T210000
DTSTAMP:20260421T183901
CREATED:20180302T100448Z
LAST-MODIFIED:20180302T100448Z
UID:12757-1519930800-1519938000@www.sympossio.gr
SUMMARY:Sympossio in Latina \, IT
DESCRIPTION:
URL:https://www.sympossio.gr/event/sympossio-in-latina-it/
LOCATION:Noi Chef\, Via Ludwig Van Beethoven\,27\, Latina\, 04012\, Italy
END:VEVENT
BEGIN:VEVENT
DTSTART;TZID=Europe/Athens:20180228T190000
DTEND;TZID=Europe/Athens:20180228T210000
DTSTAMP:20260421T183901
CREATED:20180302T110424Z
LAST-MODIFIED:20180302T110424Z
UID:12843-1519844400-1519851600@www.sympossio.gr
SUMMARY:Sympossio in Bari\, IT
DESCRIPTION:
URL:https://www.sympossio.gr/event/sympossio-in-bari-it/
LOCATION:Eataly Bari\, Lungomare Starita 4\, Bari\, 70132\, Italy
END:VEVENT
BEGIN:VEVENT
DTSTART;TZID=Europe/Athens:20180227T190000
DTEND;TZID=Europe/Athens:20180227T210000
DTSTAMP:20260421T183901
CREATED:20180302T110149Z
LAST-MODIFIED:20180302T110149Z
UID:12841-1519758000-1519765200@www.sympossio.gr
SUMMARY:Sympossio in Saint-Petersburg\, RU
DESCRIPTION:
URL:https://www.sympossio.gr/event/sympossio-in-saint-petersburg-ru/
END:VEVENT
BEGIN:VEVENT
DTSTART;TZID=Europe/Athens:20180226T190000
DTEND;TZID=Europe/Athens:20180226T210000
DTSTAMP:20260421T183901
CREATED:20180302T110105Z
LAST-MODIFIED:20180302T110105Z
UID:12838-1519671600-1519678800@www.sympossio.gr
SUMMARY:Sympossio in Napoli\, IT
DESCRIPTION:
URL:https://www.sympossio.gr/event/sympossio-in-napoli-it/
LOCATION:Eccellenze Campane\, Via Brin Benedetto\, 69\, Napoli\, 80142\, Italy
END:VEVENT
END:VCALENDAR